BEGIN:VCALENDAR
VERSION:2.0
PRODID:Events Booking
BEGIN:VEVENT
UID:69e8a51ce4efe
SUMMARY:Zago'Ride - Mars 2019
DESCRIPTION:
DTSTART:20190302T070000Z
DTEND:20190309T110000Z
DTSTAMP:20260422T123820Z
ORGANIZER;CN=Exoride:MAILTO:webmaster@exoride.net
END:VEVENT
END:VCALENDAR