BEGIN:VCALENDAR
VERSION:2.0
PRODID:Events Booking
BEGIN:VEVENT
UID:69e8badb5bd83
SUMMARY:Zago'Ride - Mars 2019
DESCRIPTION:
DTSTART:20190309T070000Z
DTEND:20190216T110000Z
DTSTAMP:20260422T141107Z
ORGANIZER;CN=Exoride:MAILTO:webmaster@exoride.net
END:VEVENT
END:VCALENDAR