BEGIN:VCALENDAR
VERSION:2.0
PRODID:Events Booking
BEGIN:VEVENT
UID:69e8babc76642
SUMMARY:Zago'Ride - Février 2019
DESCRIPTION:
DTSTART:20190209T070000Z
DTEND:20190216T110000Z
DTSTAMP:20260422T141036Z
ORGANIZER;CN=Exoride:MAILTO:webmaster@exoride.net
END:VEVENT
END:VCALENDAR