BEGIN:VCALENDAR
VERSION:2.0
PRODID:Events Booking
BEGIN:VEVENT
UID:69e8bb18b6862
SUMMARY:Zago'Ride - Avril 2019
DESCRIPTION:
DTSTART:20190410T060000Z
DTEND:20190417T100000Z
DTSTAMP:20260422T141208Z
ORGANIZER;CN=Exoride:MAILTO:webmaster@exoride.net
END:VEVENT
END:VCALENDAR