BEGIN:VCALENDAR
VERSION:2.0
PRODID:Events Booking
BEGIN:VEVENT
UID:69e8b474dcf0a
SUMMARY:Zago'Ride - Décembre 2019
DESCRIPTION:[widgetkit id=\"296\" name=\"Slideshow - aperçu - Zagoride - F
 R\"]
 &nbsp\;
 
 Technique(?) 1/4
 Physique(?) 2/4
 Durée 8 jours
 
 BIKE&nbsp\;&nbsp\;&nbsp\;E-BIKE&nbsp\;(?)
 
DTSTART:20191207T070000Z
DTEND:20191214T110000Z
DTSTAMP:20260422T134348Z
ORGANIZER;CN=Exoride:MAILTO:webmaster@exoride.net
END:VEVENT
END:VCALENDAR