BEGIN:VCALENDAR
VERSION:2.0
PRODID:Events Booking
BEGIN:VEVENT
UID:69e8a4fa64871
SUMMARY:Zago'Ride - Décembre 2018
DESCRIPTION:
DTSTART:20181221T070000Z
DTEND:20181228T110000Z
DTSTAMP:20260422T123746Z
ORGANIZER;CN=Exoride:MAILTO:webmaster@exoride.net
END:VEVENT
END:VCALENDAR