BEGIN:VCALENDAR
VERSION:2.0
PRODID:Events Booking
BEGIN:VEVENT
UID:69e8a5fb7c0d1
SUMMARY:Zago'Ride - Octobre 2019
DESCRIPTION:Ce départ a été ajouté à la demande de certains participan
 ts. Merci de prendre note que ce départ ne sera pas guidé par Christian\
 , mais par un autre guide/partenaire de longue date. SI ce détail ne vous
  dérange pas\, vous pouvez profiter des dernières places restantes. Merc
 i pour votre compréhension.
DTSTART:20191019T060000Z
DTEND:20191026T100000Z
DTSTAMP:20260422T124203Z
ORGANIZER;CN=Exoride:MAILTO:webmaster@exoride.net
END:VEVENT
END:VCALENDAR