BEGIN:VCALENDAR
VERSION:2.0
PRODID:Events Booking
BEGIN:VEVENT
UID:69e8b449527e0
SUMMARY:Iran'duro | PRIVATE 09.2019
DESCRIPTION:[widgetkit id=\"70\" name=\"Slideshow - aperçu - Iran - FR\"]
DTSTART:20190927T070000Z
DTEND:20191006T100000Z
DTSTAMP:20260422T134305Z
ORGANIZER;CN=Exoride:MAILTO:webmaster@exoride.net
END:VEVENT
END:VCALENDAR