BEGIN:VCALENDAR
VERSION:2.0
PRODID:Events Booking
BEGIN:VEVENT
UID:69e8a364f12e3
SUMMARY:Shuttle enduro en Valais
DESCRIPTION:
DTSTART:20190406T070000Z
DTEND:20190406T160000Z
DTSTAMP:20260422T123100Z
ORGANIZER;CN=Exoride:MAILTO:webmaster@exoride.net
END:VEVENT
END:VCALENDAR