BEGIN:VCALENDAR
VERSION:2.0
PRODID:Events Booking
BEGIN:VEVENT
UID:69e8b57d2f203
SUMMARY:Shuttle enduro en Valais
DESCRIPTION:
DTSTART:20190407T070000Z
DTEND:20190407T160000Z
DTSTAMP:20260422T134813Z
ORGANIZER;CN=Exoride:MAILTO:webmaster@exoride.net
END:VEVENT
END:VCALENDAR