BEGIN:VCALENDAR
VERSION:2.0
PRODID:Events Booking
BEGIN:VEVENT
UID:69e8b58c86ec5
SUMMARY:Shuttle enduro en Valais
DESCRIPTION:
DTSTART:20191102T080000Z
DTEND:20191102T170000Z
DTSTAMP:20260422T134828Z
ORGANIZER;CN=Exoride:MAILTO:webmaster@exoride.net
END:VEVENT
END:VCALENDAR