BEGIN:VCALENDAR
VERSION:2.0
PRODID:Events Booking
BEGIN:VEVENT
UID:69e8a15ce2a15
SUMMARY:Dolo'Mythic Ride | Septembre 2016
DESCRIPTION:[widgetkit id=\"71\" name=\"Slideshow - aper&ccedil\;u - Dolomy
 thic - FR\"]
DTSTART:20160911T100000Z
DTEND:20160918T100000Z
DTSTAMP:20260422T122220Z
ORGANIZER;CN=Exoride:MAILTO:webmaster@exoride.net
END:VEVENT
END:VCALENDAR