BEGIN:VCALENDAR
VERSION:2.0
PRODID:Events Booking
BEGIN:VEVENT
UID:69e8cdba07205
SUMMARY:Enduro en Valais | Privé | 1906VEBL
DESCRIPTION:
DTSTART:20190627T130000Z
DTEND:20190630T170000Z
DTSTAMP:20260422T153138Z
ORGANIZER;CN=Exoride:MAILTO:webmaster@exoride.net
END:VEVENT
END:VCALENDAR