BEGIN:VCALENDAR
VERSION:2.0
PRODID:Events Booking
BEGIN:VEVENT
UID:69e8b4fb1c2fe
SUMMARY:Shuttle enduro en Valais (Niveau intermédiaire)
DESCRIPTION:Journée shuttles guidée sur des trails accessibles pour des p
 ratiquants de niveau intermédiaire.
DTSTART:20190609T070000Z
DTEND:20190609T160000Z
DTSTAMP:20260422T134603Z
ORGANIZER;CN=Exoride:MAILTO:webmaster@exoride.net
END:VEVENT
END:VCALENDAR