BEGIN:VCALENDAR
VERSION:2.0
PRODID:Events Booking
BEGIN:VEVENT
UID:69e8a36e087e3
SUMMARY:Shuttle enduro en Valais
DESCRIPTION:
DTSTART:20190704T070000Z
DTEND:20190704T160000Z
DTSTAMP:20260422T123110Z
ORGANIZER;CN=Exoride:MAILTO:webmaster@exoride.net
END:VEVENT
END:VCALENDAR