BEGIN:VCALENDAR
VERSION:2.0
PRODID:Events Booking
BEGIN:VEVENT
UID:69e8b58cc8d8b
SUMMARY:Shuttle enduro en Valais
DESCRIPTION:
DTSTART:20190705T070000Z
DTEND:20190705T160000Z
DTSTAMP:20260422T134828Z
ORGANIZER;CN=Exoride:MAILTO:webmaster@exoride.net
END:VEVENT
END:VCALENDAR