BEGIN:VCALENDAR
VERSION:2.0
PRODID:Events Booking
BEGIN:VEVENT
UID:69e8b40d87d21
SUMMARY:Shuttle enduro en Valais
DESCRIPTION:
DTSTART:20190706T070000Z
DTEND:20190706T160000Z
DTSTAMP:20260422T134205Z
ORGANIZER;CN=Exoride:MAILTO:webmaster@exoride.net
END:VEVENT
END:VCALENDAR