BEGIN:VCALENDAR
VERSION:2.0
PRODID:Events Booking
BEGIN:VEVENT
UID:69e89038dcd6d
SUMMARY:M'goun Hike & Ride | Eté 2016
DESCRIPTION:[widgetkit id=\"67\" name=\"Slideshow - aper&ccedil\;u - M'goun
  - FR\"]
DTSTART:20160627T070000Z
DTEND:20160705T100000Z
DTSTAMP:20260422T110912Z
ORGANIZER;CN=Exoride:MAILTO:webmaster@exoride.net
END:VEVENT
END:VCALENDAR