BEGIN:VCALENDAR
VERSION:2.0
PRODID:Events Booking
BEGIN:VEVENT
UID:69e8b6362cb97
SUMMARY:Valais Express | Septembre 2019
DESCRIPTION:[widgetkit id=\"69\" name=\"Slideshow - aperçu - Valais Expres
 s - FR\"]
DTSTART:20190913T120000Z
DTEND:20190915T160000Z
DTSTAMP:20260422T135118Z
ORGANIZER;CN=Exoride:MAILTO:webmaster@exoride.net
END:VEVENT
END:VCALENDAR