BEGIN:VCALENDAR
VERSION:2.0
PRODID:Events Booking
BEGIN:VEVENT
UID:69e8a4ef82a4a
SUMMARY:La Vallée du Trient
DESCRIPTION:[widgetkit id=\"85\" name=\"Slideshow - aper&ccedil\;u - Vall&e
 acute\;e du Trient - FR\"]
DTSTART:20160911T070000Z
DTEND:20160911T150000Z
DTSTAMP:20260422T123735Z
ORGANIZER;CN=Exoride:MAILTO:webmaster@exoride.net
END:VEVENT
END:VCALENDAR