BEGIN:VCALENDAR
VERSION:2.0
PRODID:Events Booking
BEGIN:VEVENT
UID:69e8a6e472fb6
SUMMARY:Cours de pilotage | E-BIKE | Intermédiaire
DESCRIPTION:Vous souhaitez vous perfectionner dans pilotage en VTT électri
 que en toute sécurité?
 Il est temps de rejoindre ce cours de pilotage 
 e-bike pour niveau intermédiaire/avancé qui vous permettra en quelques h
 eures d'améliorer significativement vos compétences pour affronter seul 
 les obstacles d'un vrai parcours de VTT.
 Des exercices progressifs\, des
  conseils personnalisés\, une bonne ambiance et sans aucune pression\, no
 tre méthode d'apprentissage vous permettra de vous dépasser aisément au
  guidon de votre bike.
 ATTENTION\, POUR LES RESERVATIONS DE E-BIKE\, UN 
 SUPPLEMENT DE 25.- SERA COMPTE SI VOUS CHOISISSEZ L'OPTION LOCATION VTT. L
 E SUPPLEMENT SERA A REGLE AU DEBUT DU COURS. MERCI.
LOCATION:Chem. de la Gare 5\, 1934 Bagnes\, Suisse
DTSTART:20190919T071500Z
DTEND:20190919T144500Z
DTSTAMP:20260422T124556Z
ORGANIZER;CN=Exoride:MAILTO:webmaster@exoride.net
GEO:46.078594;7.214917
X-APPLE-STRUCTURED-LOCATION;VALUE=URI;X-ADDRESS=Chem. de la Gare 5\, 1934 B
 agnes\, Suisse;X-APPLE-RADIUS=72;X-TITLE=Verbier:46.078594;7.214917
END:VEVENT
END:VCALENDAR