BEGIN:VCALENDAR
VERSION:2.0
PRODID:Events Booking
BEGIN:VEVENT
UID:69e8a55b2b222
SUMMARY:Cours de pilotage | Intermédiaire/avancé
DESCRIPTION:Vous souhaitez découvrir les joies et les sensations du pilota
 ge VTT en bikepark en toute sécurité\, mais vous n'avez jamais osé vous
  lancer?
 Il est temps de rejoindre ce cours de pilotage VTT pour débuta
 nts qui vous permettra en quelques heures d'acquérir de solides bases pou
 r affronter seul les obstacles d'un vrai parcours de VTT.
 Des exercices 
 progressifs\, des conseils personnalisés\, une bonne ambiance et sans auc
 une pression\, notre méthode d'apprentissage vous permettra de vous dépa
 sser aisément au guidon de votre bike.
LOCATION:Chem. de la Gare 5\, 1934 Bagnes\, Suisse
DTSTART:20190913T071500Z
DTEND:20190913T144500Z
DTSTAMP:20260422T123923Z
ORGANIZER;CN=Exoride:MAILTO:webmaster@exoride.net
GEO:46.078594;7.214917
X-APPLE-STRUCTURED-LOCATION;VALUE=URI;X-ADDRESS=Chem. de la Gare 5\, 1934 B
 agnes\, Suisse;X-APPLE-RADIUS=72;X-TITLE=Verbier:46.078594;7.214917
END:VEVENT
END:VCALENDAR