BEGIN:VCALENDAR
VERSION:2.0
PRODID:Events Booking
BEGIN:VEVENT
UID:69e8b5661e0aa
SUMMARY:Shuttle enduro en Valais
DESCRIPTION:
DTSTART:20190610T070000Z
DTEND:20190610T160000Z
DTSTAMP:20260422T134750Z
ORGANIZER;CN=Exoride:MAILTO:webmaster@exoride.net
END:VEVENT
END:VCALENDAR