BEGIN:VCALENDAR
VERSION:2.0
PRODID:Events Booking
BEGIN:VEVENT
UID:69e8b46f2e99c
SUMMARY:Endu'Rock the Casbah | Novembre 2019
DESCRIPTION:[widgetkit id=\"1\" name=\"Slideshow - aperçu - Endurock - FR\
 "]
DTSTART:20191109T080000Z
DTEND:20191116T110000Z
DTSTAMP:20260422T134343Z
ORGANIZER;CN=Exoride:MAILTO:webmaster@exoride.net
END:VEVENT
END:VCALENDAR