BEGIN:VCALENDAR
VERSION:2.0
PRODID:Events Booking
BEGIN:VEVENT
UID:69e8a36b6457f
SUMMARY:Shuttle enduro en Valais
DESCRIPTION:
DTSTART:20190713T064500Z
DTEND:20190713T164500Z
DTSTAMP:20260422T123107Z
ORGANIZER;CN=Exoride:MAILTO:webmaster@exoride.net
END:VEVENT
END:VCALENDAR