BEGIN:VCALENDAR
VERSION:2.0
PRODID:Events Booking
BEGIN:VEVENT
UID:69e8a5456fedb
SUMMARY:Swiss Made | Juillet 2016
DESCRIPTION:[widgetkit id=\"68\" name=\"Slideshow - aper&ccedil\;u - Valais
  Express - FR\"]
DTSTART:20160709T100000Z
DTEND:20160716T100000Z
DTSTAMP:20260422T123901Z
ORGANIZER;CN=Exoride:MAILTO:webmaster@exoride.net
END:VEVENT
END:VCALENDAR