BEGIN:VCALENDAR
VERSION:2.0
PRODID:Events Booking
BEGIN:VEVENT
UID:69e8b565cb023
SUMMARY:Shuttle enduro en Valais
DESCRIPTION:
DTSTART:20190825T070000Z
DTEND:20190825T160000Z
DTSTAMP:20260422T134749Z
ORGANIZER;CN=Exoride:MAILTO:webmaster@exoride.net
END:VEVENT
END:VCALENDAR