BEGIN:VCALENDAR
VERSION:2.0
PRODID:Events Booking
BEGIN:VEVENT
UID:69e8a374afaef
SUMMARY:Zago'Ride - Janvier 2020
DESCRIPTION:[widgetkit id=\"296\" name=\"Slideshow - aperçu - Zagoride - F
 R\"]
  
 
 Technique(?) 1/4
 Physique(?) 2/4
 Durée 8 jours
 BIKE
    E-BIKE (?)
 
 
DTSTART:20200118T070000Z
DTEND:20200125T110000Z
DTSTAMP:20260422T123116Z
ORGANIZER;CN=Exoride:MAILTO:webmaster@exoride.net
END:VEVENT
END:VCALENDAR