BEGIN:VCALENDAR
VERSION:2.0
PRODID:Events Booking
BEGIN:VEVENT
UID:69e8a3b64f2c8
SUMMARY:Zago'Ride - Avril 2020
DESCRIPTION:[widgetkit id=\"296\" name=\"Slideshow - aperçu - Zagoride - F
 R\"]
  
 
 Technique(?) 1/4
 Physique(?) 2/4
 Durée 8 jours
 BIKE
    E-BIKE (?)
 
DTSTART:20200411T060000Z
DTEND:20200418T100000Z
DTSTAMP:20260422T123222Z
ORGANIZER;CN=Exoride:MAILTO:webmaster@exoride.net
END:VEVENT
END:VCALENDAR