BEGIN:VCALENDAR
VERSION:2.0
PRODID:Events Booking
BEGIN:VEVENT
UID:69e8a64314b3f
SUMMARY:Zago'Ride - Nouvel An dans l'Atlas - 2019
DESCRIPTION:[widgetkit id=\"296\" name=\"Slideshow - aperçu - Zagoride - F
 R\"]
  
 
 Technique(?) 1/4
 Physique(?) 2/4
 Durée 8 jours
 BIKE
    E-BIKE (?)
 
 
DTSTART:20191228T070000Z
DTEND:20200104T110000Z
DTSTAMP:20260422T124315Z
ORGANIZER;CN=Exoride:MAILTO:webmaster@exoride.net
END:VEVENT
END:VCALENDAR