BEGIN:VCALENDAR
VERSION:2.0
PRODID:Events Booking
BEGIN:VEVENT
UID:69e890f27cb7f
SUMMARY:Zago'Ride - Novembre 2020
DESCRIPTION:[widgetkit id=\"296\" name=\"Slideshow - aperçu - Zagoride - F
 R\"]
  
 
 Technique(?) 1/4
 Physique(?) 2/4
 Durée 8 jours
 BIKE
    E-BIKE (?)
 
DTSTART:20201114T070000Z
DTEND:20201121T110000Z
DTSTAMP:20260422T111218Z
ORGANIZER;CN=Exoride:MAILTO:webmaster@exoride.net
END:VEVENT
END:VCALENDAR