BEGIN:VCALENDAR
VERSION:2.0
PRODID:Events Booking
BEGIN:VEVENT
UID:69e8a3c112d73
SUMMARY:Valais Express | Avril 2020
DESCRIPTION:[widgetkit id=\"69\" name=\"Slideshow - aperçu - Valais Expres
 s - FR\"]
  
 
 Technique(?) 3/4
 Physique(?) 2/4
 Durée 2 jours/2 
 nuits
 BIKE   E-BIKE (?)
 
DTSTART:20200424T120000Z
DTEND:20200426T160000Z
DTSTAMP:20260422T123233Z
ORGANIZER;CN=Exoride:MAILTO:webmaster@exoride.net
END:VEVENT
END:VCALENDAR