BEGIN:VCALENDAR
VERSION:2.0
PRODID:Events Booking
BEGIN:VEVENT
UID:69e8b565daa81
SUMMARY:Vallée du Trient | niveau 3/4
DESCRIPTION:[widgetkit id=\"298\" name=\"Slideshow - aperçu - Shuttles - F
 R\"]
 &nbsp\;
 
 Technique(?) 3\,5/4
 Physique(?) 2/4
 Durée 1 jour
 
 BIKE&nbsp\;&nbsp\;&nbsp\;E-BIKE&nbsp\;(?)
 
DTSTART:20200530T070000Z
DTEND:20200530T160000Z
DTSTAMP:20260422T134749Z
ORGANIZER;CN=Exoride:MAILTO:webmaster@exoride.net
END:VEVENT
END:VCALENDAR