BEGIN:VCALENDAR
VERSION:2.0
PRODID:Events Booking
BEGIN:VEVENT
UID:69e8a6e878c74
SUMMARY:Swiss Made | Juillet 2021
DESCRIPTION:[widgetkit id=\"68\" name=\"Slideshow - aperçu - Valais Expres
 s - FR\"]
 &nbsp\;
 
 Technique(?) 3/4
 Physique(?) 2/4
 Durée 8 jou
 rs
 BIKE&nbsp\;&nbsp\;&nbsp\;E-BIKE&nbsp\;(?)
 
DTSTART:20210724T100000Z
DTEND:20210731T100000Z
DTSTAMP:20260422T124600Z
ORGANIZER;CN=Exoride:MAILTO:webmaster@exoride.net
END:VEVENT
END:VCALENDAR