BEGIN:VCALENDAR
VERSION:2.0
PRODID:Events Booking
BEGIN:VEVENT
UID:69e8b5d18bf81
SUMMARY:Zago'Ride - Mars 2020 [COMPLET]
DESCRIPTION:[widgetkit id=\"296\" name=\"Slideshow - aperçu - Zagoride - F
 R\"]
 &nbsp\;
 
 Technique(?) 1/4
 Physique(?) 2/4
 Durée 8 jours
 
 BIKE&nbsp\;&nbsp\;&nbsp\;E-BIKE&nbsp\;(?)
 
DTSTART:20200307T070000Z
DTEND:20200314T110000Z
DTSTAMP:20260422T134937Z
ORGANIZER;CN=Exoride:MAILTO:webmaster@exoride.net
END:VEVENT
END:VCALENDAR