BEGIN:VCALENDAR
VERSION:2.0
PRODID:Events Booking
BEGIN:VEVENT
UID:69e8a3772c49f
SUMMARY:Endu'Rock the Casbah | Mars 2016
DESCRIPTION:[widgetkit id=\"1\" name=\"Slideshow - aper&ccedil\;u - Enduroc
 k - FR\"]
DTSTART:20160323T080000Z
DTEND:20160330T100000Z
DTSTAMP:20260422T123119Z
ORGANIZER;CN=Exoride:MAILTO:webmaster@exoride.net
END:VEVENT
END:VCALENDAR