BEGIN:VCALENDAR
VERSION:2.0
PRODID:Events Booking
BEGIN:VEVENT
UID:69e8b3a596dc2
SUMMARY:[E-BIKE | Débutants] Martigny
DESCRIPTION:
DTSTART:20200420T063000Z
DTEND:20200420T153000Z
DTSTAMP:20260422T134021Z
ORGANIZER;CN=Exoride:MAILTO:webmaster@exoride.net
END:VEVENT
END:VCALENDAR