BEGIN:VCALENDAR
VERSION:2.0
PRODID:Events Booking
BEGIN:VEVENT
UID:69e8a123213a0
SUMMARY:Porque'Roll | Mai 2020 [COMPLET]
DESCRIPTION:[widgetkit id=\"72\"]
 &nbsp\;
 
 Technique(?) 2/4
 Physiqu
 e(?) 2/4
 Durée 4 jours
 BIKE&nbsp\;&nbsp\;&nbsp\;E-BIKE&nbsp\;(?)
 
DTSTART:20200528T070000Z
DTEND:20200531T100000Z
DTSTAMP:20260422T122123Z
ORGANIZER;CN=Exoride:MAILTO:webmaster@exoride.net
END:VEVENT
END:VCALENDAR