BEGIN:VCALENDAR
VERSION:2.0
PRODID:Events Booking
BEGIN:VEVENT
UID:69e89040aef1a
SUMMARY:Endu'Rock the Casbah | Avril 2020
DESCRIPTION:[widgetkit id=\"1\"] 
 
 Technique(?) 3/4
 Physique(?) 3/4
 
 Durée 8 jours
 BIKE   E-BIKE (?)
 
DTSTART:20200416T070000Z
DTEND:20200423T100000Z
DTSTAMP:20260422T110920Z
ORGANIZER;CN=Exoride:MAILTO:webmaster@exoride.net
END:VEVENT
END:VCALENDAR