BEGIN:VCALENDAR
VERSION:2.0
PRODID:Events Booking
BEGIN:VEVENT
UID:69e8b5ef6e628
SUMMARY:Kachapuride | Juillet 2020
DESCRIPTION:[widgetkit id=\"297\" name=\"Slideshow - aperçu - Kachapuride 
 - FR\"]
  
 
 Technique(?) 3/4
 Physique(?) 3/4
 Durée 11 jours
 B
 IKE   E-BIKE (?)
 
DTSTART:20200716T220000Z
DTEND:20200726T220000Z
DTSTAMP:20260422T135007Z
ORGANIZER;CN=Exoride:MAILTO:webmaster@exoride.net
END:VEVENT
END:VCALENDAR