BEGIN:VCALENDAR
VERSION:2.0
PRODID:Events Booking
BEGIN:VEVENT
UID:69e8b3660b098
SUMMARY:[E-BIKE | Intermédiaire] Martigny
DESCRIPTION:
DTSTART:20200422T063000Z
DTEND:20200422T153000Z
DTSTAMP:20260422T133918Z
ORGANIZER;CN=Exoride:MAILTO:webmaster@exoride.net
END:VEVENT
END:VCALENDAR