BEGIN:VCALENDAR
VERSION:2.0
PRODID:Events Booking
BEGIN:VEVENT
UID:69e8903e58c03
SUMMARY:[E-BIKE | Avancé] Martigny
DESCRIPTION:
DTSTART:20200424T063000Z
DTEND:20200424T153000Z
DTSTAMP:20260422T110918Z
ORGANIZER;CN=Exoride:MAILTO:webmaster@exoride.net
END:VEVENT
END:VCALENDAR