BEGIN:VCALENDAR
VERSION:2.0
PRODID:Events Booking
BEGIN:VEVENT
UID:69e8b57cecce3
SUMMARY:[VTT DH | Intermédiaire] Verbier [COMPLET]
DESCRIPTION:
DTSTART:20200620T063000Z
DTEND:20200620T153000Z
DTSTAMP:20260422T134812Z
ORGANIZER;CN=Exoride:MAILTO:webmaster@exoride.net
END:VEVENT
END:VCALENDAR