BEGIN:VCALENDAR
VERSION:2.0
PRODID:Events Booking
BEGIN:VEVENT
UID:69e8b4fb24f9b
SUMMARY:[E-BIKE | Débutants] Martigny [COMPLET]
DESCRIPTION:
DTSTART:20200307T073000Z
DTEND:20200307T163000Z
DTSTAMP:20260422T134603Z
ORGANIZER;CN=Exoride:MAILTO:webmaster@exoride.net
END:VEVENT
END:VCALENDAR