BEGIN:VCALENDAR
VERSION:2.0
PRODID:Events Booking
BEGIN:VEVENT
UID:69e8b3660291e
SUMMARY:[E-BIKE | Intermédiaire] Martigny [COMPLET]
DESCRIPTION:
DTSTART:20200308T073000Z
DTEND:20200308T163000Z
DTSTAMP:20260422T133918Z
ORGANIZER;CN=Exoride:MAILTO:webmaster@exoride.net
END:VEVENT
END:VCALENDAR