BEGIN:VCALENDAR
VERSION:2.0
PRODID:Events Booking
BEGIN:VEVENT
UID:69e8b523be60c
SUMMARY:Martigny & Bagnes | niveau 3/4
DESCRIPTION:[widgetkit id=\"298\" name=\"Slideshow - aperçu - Shuttles - F
 R\"]
  
 
 Technique(?) 3\,5/4
 Physique(?) 3/4
 Durée 1 jour
 BIK
 E   E-BIKE (?)
 
DTSTART:20200329T070000Z
DTEND:20200329T160000Z
DTSTAMP:20260422T134643Z
ORGANIZER;CN=Exoride:MAILTO:webmaster@exoride.net
END:VEVENT
END:VCALENDAR