BEGIN:VCALENDAR
VERSION:2.0
PRODID:Events Booking
BEGIN:VEVENT
UID:69e8ce1022a11
SUMMARY:Zago'Ride - Novembre 2020 [PRIVE]
DESCRIPTION:[widgetkit id=\"296\" name=\"Slideshow - aperçu - Zagoride - F
 R\"]
 &nbsp\;
 
 Technique(?) 1/4
 Physique(?) 2/4
 Durée 8 jours
 
 BIKE&nbsp\;&nbsp\;&nbsp\;E-BIKE&nbsp\;(?)
 
DTSTART:20201107T070000Z
DTEND:20201114T110000Z
DTSTAMP:20260422T153304Z
ORGANIZER;CN=Exoride:MAILTO:webmaster@exoride.net
END:VEVENT
END:VCALENDAR