BEGIN:VCALENDAR
VERSION:2.0
PRODID:Events Booking
BEGIN:VEVENT
UID:69e8cdff1b2a3
SUMMARY:Swiss Made | Juillet 2020 [PRIVATE]
DESCRIPTION:[widgetkit id=\"68\" name=\"Slideshow - aperçu - Valais Expres
 s - FR\"]
  
 
 Technique(?) 3/4
 Physique(?) 2/4
 Durée 3/5 jours
 
 BIKE   E-BIKE (?)
 
DTSTART:20200707T100000Z
DTEND:20200711T100000Z
DTSTAMP:20260422T153247Z
ORGANIZER;CN=Exoride:MAILTO:webmaster@exoride.net
END:VEVENT
END:VCALENDAR