BEGIN:VCALENDAR
VERSION:2.0
PRODID:Events Booking
BEGIN:VEVENT
UID:69e8a519b482a
SUMMARY:[VTT DH | Intermédiaire] Verbier
DESCRIPTION:
DTSTART:20200713T063000Z
DTEND:20200713T153000Z
DTSTAMP:20260422T123817Z
ORGANIZER;CN=Exoride:MAILTO:webmaster@exoride.net
END:VEVENT
END:VCALENDAR