BEGIN:VCALENDAR
VERSION:2.0
PRODID:Events Booking
BEGIN:VEVENT
UID:69e8cd616d018
SUMMARY:[E-BIKE | Privé] RB200611
DESCRIPTION:
DTSTART:20200508T110000Z
DTEND:20200508T160000Z
DTSTAMP:20260422T153009Z
ORGANIZER;CN=Exoride:MAILTO:webmaster@exoride.net
END:VEVENT
END:VCALENDAR